BEGIN:VCALENDAR
VERSION:2.0
PRODID:-//JKPeV - ECPv6.1.3//NONSGML v1.0//EN
CALSCALE:GREGORIAN
METHOD:PUBLISH
X-ORIGINAL-URL:https://jkpev.de
X-WR-CALDESC:Events for JKPeV
REFRESH-INTERVAL;VALUE=DURATION:PT1H
X-Robots-Tag:noindex
X-PUBLISHED-TTL:PT1H
BEGIN:VTIMEZONE
TZID:UTC
BEGIN:STANDARD
TZOFFSETFROM:+0000
TZOFFSETTO:+0000
TZNAME:UTC
DTSTART:20220101T000000
END:STANDARD
END:VTIMEZONE
BEGIN:VEVENT
DTSTART;TZID=UTC:20221114T190000
DTEND;TZID=UTC:20221114T210000
DTSTAMP:20260426T012753
CREATED:20221110T154609Z
LAST-MODIFIED:20221110T164855Z
UID:20249-1668452400-1668459600@jkpev.de
SUMMARY:Vortrag: Das Ghetto von Venedig
DESCRIPTION:Im Rahmen der Jüdischen Woche Dresden präsentiert der Jugend- & Kulturprojekt e.V. den Vortrag von Avery Gosfield: Das Ghetto von Venedig\nObwohl das Ghetto von Venedig zweifellos eine repressive Maßnahme war\, war es einer der wenigen Orte in Europa\, an denen Juden das Recht hatten\, ihre Religion offen auszuüben und in (relativem) Frieden zusammenzuleben. Aus diesem Grund wurde es zu einem Anziehungspunkt für die Einwanderung von Juden aus ganz Europa und darüber hinaus.\n\nDiese verschiedenen „jüdischen Nationen“ – die Spanier (zu denen Portugiesen\, Nordafrikaner\, Türken\, Griechen und Albaner gehörten)\, die Deutschen (zu denen Polen und Russen gehörten) und die einheimischen italienischen Juden\, die älteste ethnische Minderheit Europas – lebten auf engem Raum zusammen und schufen einen lebendigen\, teils explosiven\, kulturellen Mix. Dieser Mischmasch wurde durch den ständigen Austausch mit der italienischen Mehrheitsbevölkerung noch bereichert.
URL:https://jkpev.de/event/vortrag-das-ghetto-von-venedig/
LOCATION:Saxony
CATEGORIES:events_de
ATTACH;FMTTYPE=image/jpeg:https://jkpev.de/wp-content/uploads/2022/09/fb-14-nov.jpg
ORGANIZER;CN="Jugend-%20%26%20Kulturprojekt%20e.V.":MAILTO:info@jkpev.de
END:VEVENT
BEGIN:VEVENT
DTSTART;TZID=UTC:20221114T190000
DTEND;TZID=UTC:20221114T210000
DTSTAMP:20260426T012753
CREATED:20221110T171625Z
LAST-MODIFIED:20221110T171625Z
UID:20276-1668452400-1668459600@jkpev.de
SUMMARY:Lecture: The Ghetto of Venice
DESCRIPTION:In the framework of the Jewish Week Dresden\, the Jugend- & Kulturprojekt e.V. presents the lecture by Avery Gosfield: The Ghetto of Venice \n  \nAlthough the Venice Ghetto was undoubtedly a repressive measure\, it was one of the few places in Europe where Jews had the right to practice their religion openly and live together in (relative) peace. For this reason\, it became a center of attraction for the immigration of Jews from all over Europe and beyond. \nThese various “Jewish nations” – the Spanish (which included Portuguese\, North Africans\, Turks\, Greeks\, and Albanians)\, the Germans (which included Poles and Russians)\, and the native Italian Jews\, Europe’s oldest ethnic minority – lived together in close quarters\, creating a lively\, sometimes explosive\, cultural mix. This mishmash was further enriched by the constant exchange with the Italian majority population.
URL:https://jkpev.de/event/lecture-the-ghetto-of-venice/
LOCATION:KulturCentrale\, Hechtstr.17\, Dresden\, 01097
CATEGORIES:events_en
ATTACH;FMTTYPE=image/jpeg:https://jkpev.de/wp-content/uploads/2022/09/fb-14-nov.jpg
END:VEVENT
END:VCALENDAR