BEGIN:VCALENDAR
VERSION:2.0
PRODID:-//JKPeV - ECPv6.1.3//NONSGML v1.0//EN
CALSCALE:GREGORIAN
METHOD:PUBLISH
X-ORIGINAL-URL:https://jkpev.de
X-WR-CALDESC:Events for JKPeV
REFRESH-INTERVAL;VALUE=DURATION:PT1H
X-Robots-Tag:noindex
X-PUBLISHED-TTL:PT1H
BEGIN:VTIMEZONE
TZID:UTC
BEGIN:STANDARD
TZOFFSETFROM:+0000
TZOFFSETTO:+0000
TZNAME:UTC
DTSTART:20230101T000000
END:STANDARD
END:VTIMEZONE
BEGIN:VEVENT
DTSTART;TZID=UTC:20230505T200000
DTEND;TZID=UTC:20230630T230000
DTSTAMP:20260420T133906
CREATED:20230313T141345Z
LAST-MODIFIED:20230603T114444Z
UID:21591-1683316800-1688166000@jkpev.de
SUMMARY:die oktopusgeschichte Ausstellung von Alabaster Becher
DESCRIPTION:Alabaster Bechers Kunstwerke entstehen nicht durch Denken oder Fühlen – es ist die Art\, wie er denkt und fühlt. In dieser Sammlung von Arbeiten begibt er sich auf die Spuren des Gedichts “der Oktopus” von L. Stüdemann. Die Worte der Verszeilen dienen nicht nur der reinen Informationsvermittlung\, es sind vielmehr die Gefühle\, welche durch die Rhythmik der Buchstaben ausgelöst werden\, die für Alabaster Becher von wahrem Interesse sind. Der Künstler scheint diese Art des künstlerischen Ausdrucks genau zu verstehen und arbeitet an der Verschmelzung seiner Ästhetik mit der des Gedichts in der Bilderserie “die oktopusgeschichte”. \n05. Mai 2023 – 02. Juni 2023 \nVernissage | 05. Mai 2023 | 20:00 Uhr \nAftershow mit: Vinylkombinat Bamboni \n  \n  \nFinissage mit Live-Musik & Videoshow (acacia&magnolia) |02 Juni 2023 | 20:00 Uhr \nFull Moon Gallery \nEintritt frei! \n  \nEN ———————– \n  \ndie oktopusgeschichte \nExhibition by Alabaster Becher \n  \nAlabaster Becher’s artwork is not created by thinking or feeling – it is the way he thinks and feels. In this collection of works\, he transgresses into the lines of the poem ” der Oktopus” (the octopus) by L. Stüdemann. The words of the poem do not serve merely to convey information. For Alabaster Becher\, it is rather the emotions triggered by the rythmics of the letters. The artist seems to understand this kind of artistic expression in depth and works on the fusion of his aesthetics with that of the poem in the picture series “die oktopusgeschichte”. \n  \n05 May 2023 – 02 June 2023 \nVernissage | 05 May 2023 | 20:00 \nAftershowt: Vinylkombinat Bamboni \n  \n  \nFinissage with live music & video show (acacia&magnolia) | 02 June 2023 | 20:00 \nFull Moon Gallery \nAdmission free!
URL:https://jkpev.de/event/die-oktopusgeschichte-ausstellung-von-alabaster-becher/
LOCATION:Full Moon Gallery\, Hechtstr.17\, Dresden\, Saxony\, 01097\, Germany
CATEGORIES:events_de,events_en
ATTACH;FMTTYPE=image/jpeg:https://jkpev.de/wp-content/uploads/2023/03/fb_alabaster-copy.jpg
END:VEVENT
BEGIN:VEVENT
DTSTART;TZID=UTC:20230604T200000
DTEND;TZID=UTC:20230630T220000
DTSTAMP:20260420T133906
CREATED:20230331T094215Z
LAST-MODIFIED:20230603T114405Z
UID:21667-1685908800-1688162400@jkpev.de
SUMMARY:Midsommar – Ausstellung von Jean Kirsten
DESCRIPTION:Im Frühjahr des Jahres 1912 begegneten sich Suzanne Perrottet\, Meisterschülerin bei Émile Jacques-Dalcroze in Hellerau\, und Rudolf Laban im Sanatorium von Lahmann auf dem Weißen Hirsch und verliebten sich. \nEin Jahr später organisierten sie den ersten Sommertanzkurs auf dem Monte Verità bei Ascona in der Schweiz. Nach Ausbruch des ersten Weltkrieges in der Schweiz isoliert\, entwickelte Rudolf Laban zusammen mit Suzanne Perrottet\, Maja Lederer\, Mary Wigman u. a. die Theorie des modernen Tanzes. Dieser wurde im Dezember des Jahres 2023 auf die UNESCO-Liste des immateriellen Weltkulturerbes gesetzt\, aber der Name Laban ist nicht wirklich im Bewusstsein der deutschen Öffentlichkeit. \nDiese Ausstellung möchte an diese Begegnung von Suzanne und Rudolf erinnern. \n  \nDer Konzeptkünstler\, Jean Kirsten\, wurde 1966 in Dresden geboren\, Seit 1990 studierte er Malerei und Grafik bei Günter Horlbeck an der Hochschule für Bildende Künste in Dresden. 1995 wurde er Meisterschüler von Günther Hornig und war sein einziger Assistent von 1998 bis 2004. Er ist Mitglied der Laban Guild International. Seit 2009 beschäftigt sich Jean Kirsten mit der Raum-Harmonielehre von Rudolf Laban und seiner Kinetographie\, auch Labanotation genannt. \nEr hatte bisher über 100 Einzelausstellungen auf vier Kontinenten (Europa\, Nord- und Südamerika\, Australien) \n  \n  \n04. Juni 2023 – 30. Juni 2023\nVernissage | 04. Juni 2023 | 20:00 Uhr\nFull Moon Gallery\nEintritt frei! \nEN …………………………………………………………………………………………… \n  \n  \nIn the spring of 1912\, Suzanne Perrottet\, a master student of Émile Jacques-Dalcroze in Hellerau\, and Rudolf Laban met in Lahmann’s sanatorium and fell in love. \nA year later they organised the first summer dance course on Monte Verità near Ascona in Switzerland. Isolated in Switzerland after the outbreak of the First World War\, Rudolf Laban developed the theory of modern dance together with Suzanne Perrottet\, Maja Lederer\, Mary Wigman and others. This was put on the UNESCO list of intangible world cultural heritage in December of the year 2023\, but the name Laban is not really in the consciousness of the German public. This exhibition aims to commemorate this encounter between Suzanne and Rudolf. \n  \nThe conceptual artist\, Jean Kirsten\, was born in Dresden in 1966. From 1990 he studied painting and graphics with Günter Horlbeck at the Academy of Fine Arts in Dresden. In 1995 he became a master’s student of Günther Hornig and was his assistant from 1998 to 2004. He is a member of the Laban Guild International. Since 2009\, Jean Kirsten has been working on the spatial harmony theory of Rudolf Laban and his kinetography\, also called Labanotation. \nJean Kirsten has had over 100 solo exhibitions on four continents (Europe\, North and South America\, Australia). \nhttp://j-kirsten.de \n  \n  \n04 June 2023 – 30 June 2023\nVernissage | 04 June 2023 | 20:00\nFull Moon Gallery\nAdmission free!
URL:https://jkpev.de/event/midsommar-ausstellung-von-jean-kirsten/
LOCATION:Full Moon Gallery\, Hechtstr.17\, Dresden\, Saxony\, 01097\, Germany
ATTACH;FMTTYPE=image/jpeg:https://jkpev.de/wp-content/uploads/2023/03/fb_jans-copy.jpg
END:VEVENT
END:VCALENDAR