BEGIN:VCALENDAR
VERSION:2.0
PRODID:-//JKPeV - ECPv6.1.3//NONSGML v1.0//EN
CALSCALE:GREGORIAN
METHOD:PUBLISH
X-WR-CALNAME:JKPeV
X-ORIGINAL-URL:https://jkpev.de
X-WR-CALDESC:Events for JKPeV
REFRESH-INTERVAL;VALUE=DURATION:PT1H
X-Robots-Tag:noindex
X-PUBLISHED-TTL:PT1H
BEGIN:VTIMEZONE
TZID:UTC
BEGIN:STANDARD
TZOFFSETFROM:+0000
TZOFFSETTO:+0000
TZNAME:UTC
DTSTART:20240101T000000
END:STANDARD
END:VTIMEZONE
BEGIN:VEVENT
DTSTART;TZID=UTC:20240507T170000
DTEND;TZID=UTC:20240717T184500
DTSTAMP:20260419T124954
CREATED:20240418T114216Z
LAST-MODIFIED:20240423T124548Z
UID:24399-1715101200-1721241900@jkpev.de
SUMMARY:Einfach.Zeitlos.Digital. - Workshops für SeniorInnen / Beratungssalon / Netzwerktreffen
DESCRIPTION:Neues Projekt beim JKPeV: “Einfach.Zeitlos.Digital.” 🌟\nWir freuen uns riesig\, euch unser neues Projekt “Einfach.Zeitlos.Digital.” vorzustellen! Das Ziel des Projekts ist es\, Senior*innen dabei zu unterstützen\, ihre digitalen Kompetenzen zu erweitern und somit ihre digitale Teilhabe und Souveränität zu stärken. \nUnsere Veranstaltungen konzentrieren sich darauf\, digitale Formate näherzubringen\, ihre Funktionsweisen zu erklären und die aktive Anwendung zu fördern. \nWir laden Euch recht herzlich zu unseren kostenfreien Angeboten in die KulturCentrale ein: \n🔹 Persönliche Lehrgänge vor Ort!\n🕒 Im Zeitraum Mai-Juli in der KulturCentrale\n🕒 Jeden Dienstag 17:00-17:45 Uhr & 18:00-18:45 Uhr\n🕒 Jeden Mittwoch 17:00-17:45 Uhr & 18:00-18:45 Uhr \n🔹 Zweimal wöchentlich stattfindende Beratungssalons!\n🕒 Im Zeitraum Mai-Juli jeden Dienstag & Mittwoch 17:00-18:30 Uhr @KulturCentrale\n🕒 Im Zeitraum Mai-Dezember 2024 online via Zoom \n🔹 Generationsübergreifende Netzwerktreffen!\n🕒 Am 26. April 2024 um 16:00 Uhr in der KulturCentrale\n🕒 Im Oktober 2024 digital \nWeitere Infos findet ihr hier: https://www.kultur-centrale.de/de/einfach-zeitlos-digital/ \nBegleitet uns auf dieser Reise zur Förderung der Unabhängigkeit\, gesellschaftlichen Vernetzung und Mobilität von Senior*innen in der digitalen Welt! \nEuer Team vom JKPeV! \n—–EN—– \n🌟 NEW project at JKPeV: ” Einfach.Zeitlos.Digital.” 🌟\nWe are delighted to introduce you to our new project Einfach.Zeitlos.Digital! The aim of the project is to support senior citizens in expanding their digital skills and thus strengthening their digital participation and sovereignty.\nOur events focus on introducing digital formats\, explaining how they work and encouraging active use. \nWe would like to invite you to our free events at the KulturCentrale: \n🔹 Training courses in person!\n🕒 In the period May-July at the KulturCentrale\n🕒 Every Tuesday 17:00-17:45 & 18:00-18:45\n🕒 Every Wednesday 17:00-17:45 & 18:00-18:45 \n🔹 Counselling salons twice a week!\n🕒 In the period May-July every Tuesday & Wednesday 17:00-18:30 @KulturCentrale\n🕒 In the period May-December 2024 online via Zoom \n🔹 Cross-generational network meetings!\n🕒 On 26 April 2024 at 16:00 in the KulturCentrale\n🕒 In October 2024 digitally \nYou can find more information here: https://www.kultur-centrale.de/de/einfach-zeitlos-digital/ \nJoin us on this journey to promote the independence\, social networking and mobility of senior citizens in the digital world!\nYour team from JKPeV!
URL:https://jkpev.de/event/einfach-zeitlos-digital-workshops-fur-seniorinnen-beratungssalon-netzwerktreffen/
LOCATION:KulturCentrale\, Hechtstr.17\, Dresden\, 01097
CATEGORIES:events_de,events_en
ATTACH;FMTTYPE=image/jpeg:https://jkpev.de/wp-content/uploads/2024/04/FB-EZD.jpg
ORGANIZER;CN="Jugend-%20%26%20Kulturprojekt%20e.V.":MAILTO:info@jkpev.de
END:VEVENT
BEGIN:VEVENT
DTSTART;TZID=UTC:20240622T200000
DTEND;TZID=UTC:20240622T233000
DTSTAMP:20260419T124954
CREATED:20240524T115117Z
LAST-MODIFIED:20240524T115117Z
UID:24764-1719086400-1719099000@jkpev.de
SUMMARY:QUIET EXPRESSIONS Ausstellung von Angel Vasilev
DESCRIPTION:English below 👇 \nLassen Sie sich zum nächsten Vollmond in der KulturCentrale in die abstrakte Welt von Angel Vasilev entführen. Mit seiner Ausstellung “Quiet Expressions” treten Sie ein in die experimentelle Welt des Künstlers und entdecken Sie die komplexen\, kreativen Prozesse zwischen den einzelnen Werken. \nBegleitet von der Musik von Ali Can Alma können Sie Kunstwerke betrachten\, deren einzigartiger Charakter im Mondlicht erstrahlt. \nAngel Vasilev lebt und arbeitet seit 2016 in Dresden. Seit seinem Studium in Sofia\, Bulgarien\, beschäftigt er sich aktiv mit Malerei und Installationen. Seitdem er in Dresden lebt\, hat er mehrere Einzelausstellungen durchgeführt und an vielen verschiedenen Projekten teilgenommen\, die er teilweise gemeinsam mit anderen Künstlern initiierte.\nEr schafft seine persönlichen Werke in episodischen Aktivitätsperioden\, und für die vorliegende Ausstellung wurden einige malerische abstrakte Werke minimalistischen Charakters ausgewählt\, die er im Jahr 2022 geschaffen hat. Die Recherchen sind heterogen und experimentell\, weisen jedoch Bezüge zu anderen Schaffensperioden auf. \nLaudation: Ana Pireva\nMusik: Ali Can Alma \nEnglish \nJoin us at the KulturCentrale for the next Full Moon and step into Angel Vasilev’s abstract world. Through the exposition „Quiet Expressions” dive into the artists’ experimental world and discover the complex creative processes between each piece. \nAccompanied by Ali Can Alma’s music\, discover art pieces whose singular character shine under the moonlight. \nAngel Vasilev has lived and worked in Dresden from 2016. Since his studies in Sofia\, Bulgaria\, he has dedicated himself to paintings and installations. After moving to Dresden\, he led different single exhibitions and participated in various projects\, some of which he also initiated with other artists. \nHis personal pieces are created during specific activity periods. Some of his abstract paintings of minimalistic character created in 2022 where selected for this exhibition. The creative process is heterogeneous and experimental\, while still revealing connections to other phases of his work. \nLaudatio: Ana Pireva\nMusic: Ali Can Alma
URL:https://jkpev.de/event/quiet-expressions-ausstellung-von-angel-vasilev/
LOCATION:Full Moon Gallery\, Hechtstr.17\, Dresden\, Saxony\, 01097\, Germany
CATEGORIES:events_de,events_en
ATTACH;FMTTYPE=image/jpeg:https://jkpev.de/wp-content/uploads/2024/05/fb-3.jpg
END:VEVENT
END:VCALENDAR