BEGIN:VCALENDAR
VERSION:2.0
PRODID:-//JKPeV - ECPv6.1.3//NONSGML v1.0//EN
CALSCALE:GREGORIAN
METHOD:PUBLISH
X-WR-CALNAME:JKPeV
X-ORIGINAL-URL:https://jkpev.de
X-WR-CALDESC:Events for JKPeV
REFRESH-INTERVAL;VALUE=DURATION:PT1H
X-Robots-Tag:noindex
X-PUBLISHED-TTL:PT1H
BEGIN:VTIMEZONE
TZID:UTC
BEGIN:STANDARD
TZOFFSETFROM:+0000
TZOFFSETTO:+0000
TZNAME:UTC
DTSTART:20250101T000000
END:STANDARD
END:VTIMEZONE
BEGIN:VEVENT
DTSTART;TZID=UTC:20250815T160000
DTEND;TZID=UTC:20251010T193000
DTSTAMP:20260420T134032
CREATED:20250618T125251Z
LAST-MODIFIED:20250618T125251Z
UID:26698-1755273600-1760124600@jkpev.de
SUMMARY:ECHOES IN INK - DEINE GESCHICHTE ZÄHLT!
DESCRIPTION:ECHOES IN INK – DEINE GESCHICHTE ZÄHLT!\nGedenkrundgänge | Kreativ-Workshops | Graphic Novels …für junge Menschen \nMit „Echoes in Ink“ machst du Geschichte sichtbar – aus deiner Perspektive. Du wirst Teil eines künstlerisch-geschichtlichen Projekts\, das deine Sicht auf Vergangenheit\, Gegenwart und Zukunft verbindet – und anderen neue Einblicke ermöglicht.\nAngesichts wachsender Geschichtsvergessenheit\, zunehmenden Antisemitismus und gesellschaftlicher Polarisierung ist Erinnerung wichtiger denn je. „Echoes in Ink – Die Kunst des Erinnerns“ ermöglicht jungen Menschen\, sich aktiv und kreativ mit der jüdischen Geschichte Dresdens und der Frage auseinanderzusetzen\, wie Erinnern heute aussehen kann – persönlich\, politisch und künstlerisch. \nMelde dich jetzt einfach online an! (https://docs.google.com/…/1FAIpQLSfQihn3e4aAse…/viewform) \n******************************************************** \n>>> Gedenkrundgänge mit Katharina Michael <<< \nThematisch geführte Rundgänge an historischen Orten in Dresden vermitteln Grundlagen zur jüdischen Geschichte\, zur NS-Verfolgung\, zum Wiederaufbau und zur heutigen Erinnerungskultur – mit kreativen und reflektierenden Zugängen. \nFreitag | 15.08.2025 | 16:00 – 17:30 Uhr\nEinführung in die Jüdische Geschichte Dresdens \nSamstag | 16.08.2025 | 11:00 – 12:30 Uhr\nDie Verfolgung der jüdischen Bevölkerung in der NS-Zeit \nFreitag | 22.08.2025 | 16:00 – 17:30 Uhr\nZerstörung und Wiederaufbau nach dem Zweiten Weltkrieg \nSamstag | 23.08.2025 | 11:00 – 12:30 Uhr\nErinnerungskultur und aktuelle Gedenkorte \nFreitag | 29.08.2025 | 16:00 – 17:30 Uhr\nDie Zukunft des Erinnerns \n  \n>>> Kreativ-Workshops mit Nazanin Zandi <<< \nIn praxisorientierten Workshops erarbeiten die Teilnehmenden unter professioneller Anleitung eigene visuelle Erzählformate – von Figurenentwicklung über Bildkomposition bis hin zur narrativen Gestaltung. \nFreitag | 15.08.2025 | 18:30 – 20:00 Uhr | KulturCentrale\nVisuelles Erzählen \nSamstag | 16.08.2025 | 13:30 – 15:00 Uhr | KulturCentrale\nFiguren & Perspektiven \nFreitag | 22.08.2025 | 18:30 – 20:00 Uhr | KulturCentrale\nOrte & Atmosphäre \nSamstag | 23.08.2025 | 13:30 – 15:00 Uhr | KulturCentrale\nNarration & Dramaturgie \nFreitag | 29.08.2025 | 18:30 – 20:00 Uhr | KulturCentrale\nDeine Stimme der Erinnerung \n  \n>>> Graphic Novels Working Sessions mit Olga Yocheva & Doreen Siegmund & weitere <<< \nBegleitet durch Künstler*innen\, Historiker*innen und Pädagog*innen gestalten die Teilnehmenden ihre eigene Graphic Novel. Die entstandenen Werke werden ausgestellt\, veröffentlicht und bundesweit im Bildungskontext eingesetzt. \nDonnerstag | 04.09.2025 | 18:00 – 19:30 Uhr | KulturCentrale\nJüdisches Leben vor 1933 – Vielfalt und Alltagsrealitäten \nDonnerstag | 11.09.2025 | 18:00 – 19:30 Uhr | KulturCentrale\nVerfolgung und Ausgrenzung – Lokale Dimensionen \nDonnerstag | 18.09.2025 | 18:00 – 19:30 Uhr | KulturCentrale\nErinnerungsorte und Formen der Erinnerung \nDonnerstag | 25.09.2025 | 18:00 – 19:30 Uhr | KulturCentrale\nKreative Transformation – Geschichte als Graphic Novel? \nDonnerstag | 02.10.2025 | 18:00 – 19:30 Uhr | KulturCentrale\nParallelen zur Gegenwart – Reflexion und Positionierung \n  \n******************************************************** \nHöhepunkte des Projekts:\nVeröffentlichung aller Arbeiten als Print- & Online-Publikation\nAusstellung in der Full Moon Gallery Dresden (Herbst 2025)\nÖffentliches Launchevent mit Lesung\nEinbindung in die bundesweite Bildungsagenda NS-Unrecht der Stiftung EVZ \n  \nZielgruppe: junge Menschen & Studierende aus Kunst\, Pädagogik\, Geschichte\, Kultur- oder Politikwissenschaft \n  \nKosten: Teilnahme kostenlos\, Materialien werden gestellt \nWeitere Informationen zum Projekt und den Veranstaltungen findet ihr auf unserer Website https://jkpev.de/de/portfolio_page/echoes-in-ink-2025/ \n  \nEin Projekt von JUGEND erinnert vor Ort & engagiert der Stiftung evz.
URL:https://jkpev.de/event/echoes-in-ink-deine-geschichte-zaehlt/
LOCATION:Saxony
CATEGORIES:events_de,events_en
ATTACH;FMTTYPE=image/jpeg:https://jkpev.de/wp-content/uploads/2025/06/jkpev_web4.jpg
END:VEVENT
BEGIN:VEVENT
DTSTART;TZID=UTC:20251007T200000
DTEND;TZID=UTC:20251104T200000
DTSTAMP:20260420T134032
CREATED:20250923T152824Z
LAST-MODIFIED:20250923T152824Z
UID:27379-1759867200-1762286400@jkpev.de
SUMMARY:WER BIN ICH? – Ausstellung von Dorothee Kuhbandner
DESCRIPTION:Dorothee Kuhbandner wurde 1964 als Dorothee Friedrich geboren\, wuchs behütet auf und ging ihren eigenen Weg. Seit ihrer Kindheit drückt sie sich durch Bilder aus und verarbeitet Erlebnisse\, Gefühle und Gedanken in Farbe und Form. \nDer Inhalt ihrer Arbeiten erschließt sich nicht immer auf den ersten Blick. „Was willst du mit dem Bild sagen? Was stellt es dar?“ wird sie oft gefragt. Eine einfache Antwort fällt schwer\, denn Worte sind nicht ihr Medium – sie malt. \n  \n„Die Handschrift von Dorothee Kuhbandner wirkt oft magisch-expressiv\, lässt sich in kein Schubfach schieben. Bemerkenswert sind die leuchtende Farbigkeit und der ungezähmte Strich\, in dem die Figur Gestalt annimmt. Scherzhaft spricht sie von ihrem ‚Dorealismus‘.“\n— Heinz Weißflog († 2013) \n  \n„Es sind die Umwege\, die einen Menschen am schnellsten zum Ziel führen; Etappenorte sind und bleiben existenziell.“ \n— Thomas Gerlach\, Radebeul \n  \nDorothee Kuhbandner hatte und hat viele Etappen in ihrem Leben: Buchbinderin\, Krankenschwester\, Mutter von vier Söhnen\, Galeristin\, Managerin… Lebenskünstlerin. Sie hat kein Kunststudium absolviert und ließ sich nie in vorgegebene Bahnen lenken. Sie malt\, wie es ihr gefällt\, und hat ihren eigenen Stil gefunden – und ist damit zufrieden. \n  \n\n Oktober – 04. November 2025\n\nVernissage | 07. Oktober 2025 | 20:00 \nFull Moon Gallery \nEintritt frei! \n  \n—EN— \n  \nWHO AM I? – Exhibition by Dorothee Kuhbandner \n  \nDorothee Kuhbandner was born Dorothee Friedrich in 1964\, grew up in a sheltered environment and went her own way. Since childhood\, she has expressed herself through images and processed experiences\, feelings and thoughts in colour and form. \nThe content of her work is not always apparent at first glance. ‘What are you trying to say with the picture? What does it represent?’ she is often asked. It is difficult to give a simple answer\, because words are not her medium – she paints. \n  \n‘Dorothee Kuhbandner’s style often seems magically expressive and cannot be pigeonholed. The bright colours and untamed strokes in which the figures take shape are remarkable. She jokingly refers to her style as “Dorealism”.’ \n— Heinz Weißflog († 2013) \n  \n‘It is the detours that lead a person to their goal the fastest; stages are and remain existential.’ \n— Thomas Gerlach\, Radebeul \n  \nDorothee Kuhbandner has had and continues to have many stages in her life: bookbinder\, nurse\, mother of four sons\, gallery owner\, manager… bon vivant. She did not study art and never allowed herself to be steered down a predetermined path. She paints as she pleases and has found her own style – and is happy with it. \n  \n07 October – 04 November 2025 \nVernissage | 07 October 2025 | 20:00 \nFull Moon Gallery \nAdmission free! \n 
URL:https://jkpev.de/event/wer-bin-ich-ausstellung-von-dorothee-kuhbandner/
LOCATION:Full Moon Gallery\, Hechtstr.17\, Dresden\, Saxony\, 01097\, Germany
CATEGORIES:events_de,events_en,Exhibition
ATTACH;FMTTYPE=image/jpeg:https://jkpev.de/wp-content/uploads/2025/09/fb-3-scaled.jpg
END:VEVENT
END:VCALENDAR