BEGIN:VCALENDAR
VERSION:2.0
PRODID:-//JKPeV - ECPv6.1.3//NONSGML v1.0//EN
CALSCALE:GREGORIAN
METHOD:PUBLISH
X-WR-CALNAME:JKPeV
X-ORIGINAL-URL:https://jkpev.de
X-WR-CALDESC:Events for JKPeV
REFRESH-INTERVAL;VALUE=DURATION:PT1H
X-Robots-Tag:noindex
X-PUBLISHED-TTL:PT1H
BEGIN:VTIMEZONE
TZID:UTC
BEGIN:STANDARD
TZOFFSETFROM:+0000
TZOFFSETTO:+0000
TZNAME:UTC
DTSTART:20220101T000000
END:STANDARD
END:VTIMEZONE
BEGIN:VEVENT
DTSTART;TZID=UTC:20221210T200000
DTEND;TZID=UTC:20230127T170000
DTSTAMP:20260425T194031
CREATED:20221117T143747Z
LAST-MODIFIED:20230104T095638Z
UID:20548-1670702400-1674838800@jkpev.de
SUMMARY:Weihnachts★Kunst★Markt
DESCRIPTION:The Christmas Art Market in the Full Moon Gallery will be opened on 10 December. From 10 December to 5 January\, numerous exclusive works by local artists will be exhibited in the outside windows of the KulturCentrale as part of the Christmas Art Market and will also be on sale for a small fee. So if you want to surprise your loved ones with an unique artwork under the Christmas tree or are simply looking for new works of art\, you should definitely make your way to us.
URL:https://jkpev.de/event/weihnachts%e2%98%85kunst%e2%98%85markt-2/
LOCATION:Full Moon Gallery\, Hechtstr.17\, Dresden\, Saxony\, 01097\, Germany
CATEGORIES:events_en
ATTACH;FMTTYPE=image/jpeg:https://jkpev.de/wp-content/uploads/2022/11/fb-event-2-vernissage.jpg
END:VEVENT
BEGIN:VEVENT
DTSTART;TZID=UTC:20221210T200000
DTEND;TZID=UTC:20230127T200000
DTSTAMP:20260425T194031
CREATED:20221117T143601Z
LAST-MODIFIED:20230104T095620Z
UID:20544-1670702400-1674849600@jkpev.de
SUMMARY:Weihnachts★Kunst★Markt
DESCRIPTION:Feierlich wird der WeihnachtsKunstMarkt in der Full Moon Gallery 10. Dezember eröffnet werden. In den Außenfenstern der KulturCentrale werden vom 10. Dezember bis zum 05. Januar zahlreiche einzigartige Werke lokaler KünstlerInnen im Rahmen des WeihnachtsKunstMarkts ausgestellt und auch für einen schmalen Taler angeboten. Wer also seine Liebsten mit einem kunstvollen Geschenk unterm Weihnachtsbaum überraschen möchte oder einfach auf der Suche nach neuen Kunstwerken ist\, sollte sich unbedingt auf den Weg zu uns machen.
URL:https://jkpev.de/event/weihnachts%e2%98%85kunst%e2%98%85markt/
LOCATION:Full Moon Gallery\, Hechtstr.17\, Dresden\, Saxony\, 01097\, Germany
CATEGORIES:events_de
ATTACH;FMTTYPE=image/jpeg:https://jkpev.de/wp-content/uploads/2022/11/fb-event-2-vernissage.jpg
END:VEVENT
BEGIN:VEVENT
DTSTART;TZID=UTC:20230114T190000
DTEND;TZID=UTC:20230114T220000
DTSTAMP:20260425T194031
CREATED:20230104T101923Z
LAST-MODIFIED:20230110T150029Z
UID:20781-1673722800-1673733600@jkpev.de
SUMMARY:„Revolution der Geduld“ Lesung und Gespräch über die Proteste in Belarus und den Krieg in der Ukraine
DESCRIPTION:Im Sommer 2020 gingen die Menschen in Belarus auf die Straße\, um für Demokratie und Freiheit zu kämpfen. Es gelang ihnen nicht\, sofort zu siegen. Zehntausende wurden und werden immer noch festgenommen und zu langen Haftstrafen verurteilt. Tausende sitzen nun in den Gefängnissen des postsowjetischen Landes. Mehr als eine Million Belarussen verließen ihr Land. Jedoch spürt man keine Niederlage\, denn etwas Unumkehrbares ist jedoch bereits geschehen und geht nun beharrlich weiter: die Geburt und die willige Selbstgestaltung einer Zivilgesellschaft jenseits sanktionierter Machtgefüge – im Lande selbst\, im Untergrund und im Exil. Umso mehr jetzt\, während des Krieges in Ukraine\, in den das diktatorisch regierte Belarus direkt involviert ist. \n  \nHeinrich Kirschbaum\, Professor für Slavische Literaturen und Kulturen an der Universität Freiburg\, beschäftigt sich genau mit dieser andauernden „Revolution der Geduld“\, so der Titel jüngst bei „Matthes und Seitz“ erschienen Buchs\, das von der belarussischen Kultur\, Geschichte und Poesie\, jedoch nicht zuletzt auch von der eigenen Betroffenheit handelt. \n  \nPhoto by Andrew Keymaster on Unsplash
URL:https://jkpev.de/event/revolution-der-geduld-lesung-und-gesprach-uber-die-proteste-in-belarus-und-den-krieg-in-der-ukraine/
LOCATION:KulturCentrale\, Hechtstr.17\, Dresden\, 01097
CATEGORIES:events_de,events_en
ATTACH;FMTTYPE=image/jpeg:https://jkpev.de/wp-content/uploads/2023/01/fb-scaled.jpg
END:VEVENT
BEGIN:VEVENT
DTSTART;TZID=UTC:20230126T200000
DTEND;TZID=UTC:20230126T235900
DTSTAMP:20260425T194031
CREATED:20230112T143316Z
LAST-MODIFIED:20230112T143343Z
UID:20925-1674763200-1674777540@jkpev.de
SUMMARY:Culture Jam Session
DESCRIPTION:Believing that music plays an important role in combating stereotypes and discrimination\, the CULTURE JAM SESSION at KulturCentrale celebrates cultural and musical diversity. The Jam Session takes place every Thursday from 6:30 p.m. and every last Thursday of the month there is a Jam Session concert at KulturCentrale from 8 p.m.\nInternational and local musicians perform live on our stage and welcome any creative contribution\, be it a Jew’s harp solo\, a cover version of your favourite song or a spontaneous musical interlude. So pack the instrument of your choice and celebrate live music with the team of the Jugend- & Kulturprojekt e.V. and its guests from all over the world. Piano\, guitars\, cajon\, amplifiers and microphones are waiting for you!\nThe team behind the Culture Jam Session are the members of the Jugend- & Kulturprojekt e.V. in cooperation with Izabela Modrzewska.
URL:https://jkpev.de/event/culture-jam-session/
LOCATION:KulturCentrale\, Hechtstr.17\, Dresden\, 01097
CATEGORIES:events_en
ATTACH;FMTTYPE=image/jpeg:https://jkpev.de/wp-content/uploads/2023/01/fb-event_jam-session-copy.jpg
END:VEVENT
BEGIN:VEVENT
DTSTART;TZID=UTC:20230126T200000
DTEND;TZID=UTC:20230126T235900
DTSTAMP:20260425T194031
CREATED:20230112T144855Z
LAST-MODIFIED:20230112T144901Z
UID:20929-1674763200-1674777540@jkpev.de
SUMMARY:Culture Jam Session
DESCRIPTION:In der Überzeugung\, dass Musik eine wichtige Rolle bei der Bekämpfung von Stereotypen und Diskriminierung spielt\, feiert die CULTURE JAM SESSION in der KulturCentrale die kulturelle und musikalische Vielfalt. Die Jam Session findet jeden Donnerstag ab 18:30 Uhr statt und jeden letzten Donnerstag im Monat gibt es ab 20 Uhr ein Jam Session Konzert in der KulturCentrale.\nInternationale und lokale Musiker treten live auf unserer Bühne auf und freuen sich über jeden kreativen Beitrag\, sei es ein Maultrommel-Solo\, eine Coverversion ihres Lieblingssongs oder eine spontane musikalische Einlage. Also packt das Instrument eurer Wahl ein und feiert Live-Musik mit dem Team des Jugend- & Kulturprojekt e.V. und seinen Gästen aus aller Welt. Klavier\, Gitarren\, Cajon\, Verstärker und Mikrofone warten auf dich!\nDas Team hinter der Culture Jam Session sind die Mitglieder des Jugend- & Kulturprojekt e.V. in Zusammenarbeit mit Izabela Modrzewska.
URL:https://jkpev.de/event/culture-jam-session-2/
LOCATION:KulturCentrale\, Hechtstr.17\, Dresden\, 01097
CATEGORIES:events_de
ATTACH;FMTTYPE=image/jpeg:https://jkpev.de/wp-content/uploads/2023/01/fb-event_jam-session-copy.jpg
END:VEVENT
END:VCALENDAR