BEGIN:VCALENDAR
VERSION:2.0
PRODID:-//JKPeV - ECPv6.1.3//NONSGML v1.0//EN
CALSCALE:GREGORIAN
METHOD:PUBLISH
X-ORIGINAL-URL:https://jkpev.de
X-WR-CALDESC:Events for JKPeV
REFRESH-INTERVAL;VALUE=DURATION:PT1H
X-Robots-Tag:noindex
X-PUBLISHED-TTL:PT1H
BEGIN:VTIMEZONE
TZID:UTC
BEGIN:STANDARD
TZOFFSETFROM:+0000
TZOFFSETTO:+0000
TZNAME:UTC
DTSTART:20230101T000000
END:STANDARD
END:VTIMEZONE
BEGIN:VEVENT
DTSTART;TZID=UTC:20230204T140000
DTEND;TZID=UTC:20230204T180000
DTSTAMP:20260425T151704
CREATED:20230110T145528Z
LAST-MODIFIED:20230124T095228Z
UID:20878-1675519200-1675533600@jkpev.de
SUMMARY:Filmmaking Workshops @ KulturCentrale
DESCRIPTION:[vc_row row_type=”row” text_align=”left” css_animation=””][vc_column][vc_column_text]Do you want to be trained by a professional filmmaker on how to produce your own social documentary from scratch in only three workshops? \nDo you want to improve your soft skills by working in a group to produce your own social documentary? \nDo you want to learn how you can use digital and social media platforms for the promotion of videos and other projects? \nThen\, you are very welcome to join JKPeV’s intensive filmmaking workshop where you will learn to produce your own social documentary on a topic of your choice! \n  \nThis training is free of charge as it is part of the European project ENACTING Generating Social Impact Through Filming. The ENACTING project aims at empowering citizens to express their ideas and concerns on social issues through the production of social documentaries. In order to achieve this\, the ENACTING project partners have designed an innovative online course on social documentary development and a virtual platform that provides young people and adults with the necessary knowledge\, skills\, and space to produce and share their own documentaries to address social issues in Athens\, Dresden\, Florence\, Larissa\, and Marseille. \n  \nFor further information about the ENACTING project and its results\, you can visit the website of the project and its e-learning platform. \n  \nThe topics of the workshops are the following: \n► Developing a script and a story board \n► Scheduling filming activities \n► Selecting a topic and preparing the shooting \n► Shooting a short film \n► Editing and other post-production techniques \n  \nWhat else you need to know? \nWhen? \n1st Workshop     | 21 January 2023            | 14:00 – 18:00  \n2nd Workshop    | 04 February 2023         | 14:00 – 18:00 \n3rd Workshop     | 18 February 2023         | 14:00 – 18:00 \n  \nWhere?  \n► @ KulturCentrale\, Hechtstraße 17\, 01097 Dresden. \n  \nLanguage?   \n► This workshop will be held in English. \n  \nHow to apply?  \n► In order to apply\, please fill out this form: \n[/vc_column_text][/vc_column][/vc_row][vc_row row_type=”row” text_align=”left” css_animation=””][vc_column]REGISTRATION[/vc_column][/vc_row]\n  \nAny questions? Feel free to contact us \n► Doreen Siegmund via email: doreen.siegmund@jkpev.de or phone: +49 351 899 605 45
URL:https://jkpev.de/event/filmmaking-workshops-kulturcentrale/
LOCATION:KulturCentrale\, Hechtstr.17\, Dresden\, 01097
CATEGORIES:events_de,events_en
ATTACH;FMTTYPE=image/png:https://jkpev.de/wp-content/uploads/2023/01/fb-copy.png
END:VEVENT
BEGIN:VEVENT
DTSTART;TZID=UTC:20230205T190000
DTEND;TZID=UTC:20230205T235900
DTSTAMP:20260425T151704
CREATED:20230112T110057Z
LAST-MODIFIED:20230126T164002Z
UID:20915-1675623600-1675641540@jkpev.de
SUMMARY:Artists Lounge
DESCRIPTION:Artists Lounge – Film portraits of 5 Artists from Dresden \n  \nWe would like to invite you to the upcoming ARTISTS LOUNGE at Full Moon Gallery on 05 February at 19:00. In addition to short guest lectures and screenings of the film portraits of the artists Aleksandra Vagabonda\, Ana Pireva\, Izabela Modrzewska\, Karolin Kutteri and Augusto Gerardi\, the ARTISTS LOUNGE is primarily about the exchange of ideas\, networking and joint project development. Let’s get creative together.  \n  \nThe “Art is Us” project which started back in March 2021 with the aim of using the transformative force of culture for community regeneration to respond to the severe impact that the COVID-19 pandemic has had both on artists and the cultural sector and on social inclusion and cohesion\, invites artists\, community leaders and art educators and other professionals of the CCSs to the Art for Local Innovation and Community Building Event on 05.02.2022 at 19:00 at KulturCentrale. \n  \nIf you are an artist\, a community leader\, a cultural or creative professional or you represent a cultural/art/creative organisation and wish to connect with a creative and alternative community of artists in Dresden focused on supporting the local community through arts and cross-cultural dialogue and collaborate on multiple levels\, then you are invited to join us on Sunday\, 05.02.2023 at 14:00 at KulturCentrale (Hechstr. 17\, 01097 Dresden). \n  \nYou will have the chance to learn about the “Art is Us” project and find out how you can get involved and benefit from it as well as meet artists that were involved in the “Art is Us” project and will speak about how they interact and support their communities through their art. For this purpose the premiere showing of five short film portraits about the personal stories and social impact of five artists that were produced within the framework of this project will take place. \n  \nA few words about the “Art is Us” project \n  \nThe “Art is Us” project equips artists\, community key skills and competencies for a sustainable creative career and has provided them with the opportunity to be successful innovators in their communities through a variety of educational tools and approaches. Art is Us fosters innovative\, arts-based participatory and cross-cultural dialogue approaches. \n  \nEvent’s Programme \n  \nThe Art for Local Innovation and Community Building Event will be accompanied by live music by the musician and musical therapist\, Izabela Modrzewska\, together with Marc Neagu. \nPresentation of the “Art is Us” project \nFilm portraits/Guest speakers – artists \nAleksandra Vagabonda (https://aleksandravagabonda.art/) \nAna Pireva (https://anapireva.works/) \nIzabela Modrzewska \nKarolin Kutteri (https://www.karolinkutteri.com/) \nAugusto Gerardi \nThe artists will be present at the event and will speak after the showing of their filmed personal story about their experience and involvement in the “Art is Us” project. \n  \nAn artists’ lounge will follow connecting artists\, creatives and community leaders. \nAt 21:00 the opening of the exhibition of the “Digital Art Residencies” will follow at the Full Moon Gallery of KulturCentrale. \nIf you wish to join the Art for Local Innovation and Community Building Event\, please register here \n  \n 
URL:https://jkpev.de/event/art-for-local-innovation-and-community-building-event/
LOCATION:Full Moon Gallery\, Hechtstr.17\, Dresden\, Saxony\, 01097\, Germany
CATEGORIES:events_en
ATTACH;FMTTYPE=image/jpeg:https://jkpev.de/wp-content/uploads/2023/01/art-lounge-scaled.jpg
END:VEVENT
BEGIN:VEVENT
DTSTART;TZID=UTC:20230205T190000
DTEND;TZID=UTC:20230205T235900
DTSTAMP:20260425T151704
CREATED:20230112T135003Z
LAST-MODIFIED:20230126T164044Z
UID:20921-1675623600-1675641540@jkpev.de
SUMMARY:Artists Lounge
DESCRIPTION:Artists Lounge – Filmporträts von 5 Dresdner KünstlerInnen \nWir möchten euch zur kommenden ARTISTS LOUNGE am 05. Februar um 19:00 Uhr in die Full Moon Gallery einladen. Neben kurzen Gastvorträgen und Screenings der Filmporträts der KünstlerInnen Aleksandra Vagabonda\, Ana Pireva\, Izabela Modrzewska\, Karolin Kutteri und Augusto Gerardi geht es in der ARTISTS LOUNGE vor allem um Ideenaustausch\, Vernetzung und gemeinsame Projektentwicklung. Lasst uns gemeinsam kreativ werden.\n\nDas Projekt „Art is Us“\, das im März 2021 mit dem Ziel gestartet wurde\, die transformative Kraft der Kultur für die Erneuerung der Gesellschaft zu nutzen\, um auf die schwerwiegenden Auswirkungen der COVID-19-Pandemie sowohl auf Kunstschaffende und den Kultursektor als auch auf die soziale Eingliederung und den Zusammenhalt zu reagieren\, lädt Kunstschaffende\, öffentliche Akteure\, kunstpädagogische Fachkräfte und andere Menschen tätig in der Kunst und Kreativwirtschaft zum „Art for Local Innovation and Community Building Event“ am 05.02.2022 um 19:00 Uhr in die KulturCentrale ein. \nWenn du in der Kunst und Kultur tätig bist oder gesellschaftlich tägig\, professionell kreativ unterwegs bist oder eine kulturelle/künstlerische/kreative Organisation vertrittst und dich mit einer kreativen und alternativen Gemeinschaft von Kunstschaffenden in Dresden verbinden möchtest\, die sich darauf konzentriert\, die Gesellschaft vor Ort durch Kunst und interkulturellen Dialog zu unterstützen und auf verschiedenen Ebenen zusammenzuarbeiten\, dann bist du herzlich eingeladen\, am Sonntag\, den 05.02.2023 um 14:00 Uhr in der KulturCentrale (Hechstr. 17\, 01097 Dresden) dabei zu sein. \nDu hast die Möglichkeit\, dich über das Projekt „Art is Us“ zu informieren und herauszufinden\, wie du dich einbringen und davon profitieren kannst. Außerdem triffst du Kunstschaffende\, die an dem Projekt „Art is Us“ beteiligt waren und darüber sprechen\, wie sie mit ihrer Kunst die Gesellschaft beeinflussen und unterstützen. Dabei findet die Premiere von fünf filmischen Kurzportraits über die gesellschaftliche Wirkung von fünf Kunstschaffenden statt die im Rahmen dieses Projektes erzeugt worden sind. \nEin paar Worte zum „Art is Us“-Projekt \nDas „Art is Us“-Projekt vermittelt Kunstschaffenden Schlüsselqualifikationen und -kompetenzen für eine nachhaltige kreative Karriere und gibt ihnen die Möglichkeit\, durch eine Vielzahl von pädagogischen Tools und Ansätzen erfolgreiche Innovatoren in ihren Communities zu sein. Art is Us fördert innovative\, kunstbasierte partizipative und kulturübergreifende Dialogansätze. \nDas Programm der Veranstaltung \nDie Veranstaltung „Art for Local Innovation and Community Building“ wird von der Musikerin und Musiktherapeutin Izabela Modrzewska zusammen mit Marc Neagu mit Live-Musik begleitet. \nVorstellung des Projekts „Art is Us“ \nFilmportraits/Gastvortragende – Kunstschaffende\nAleksandra Vagabonda (https://aleksandravagabonda.art/)\nAna Pireva (https://anapireva.works/)\nIzabela Modrzewska\nKarolin Kutteri (https://www.karolinkutteri.com/)\nAugusto Gerardi \nDie Kunstschaffenden werden bei der Veranstaltung anwesend sein und nach der Vorführung ihres filmischen Kurzportraits über ihre Erfahrungen und ihr Engagement im Projekt „Art is Us“ sprechen.\nIm Anschluss findet eine Künstlerlounge statt\, in der Kunstschaffende\, Kreative und gesellschaftliche Akteure zusammenkommen.\nUm 21:00 Uhr folgt die Eröffnung der Ausstellung der „Digital Art Residencies“ in der Full Moon Gallery der KulturCentrale.\nWenn du am Event „Art for Local Innovation and Community Building“ teilnehmen möchtest\, melde dich bitte hier an.
URL:https://jkpev.de/event/art-for-local-innovation-and-community-building-event-2/
LOCATION:Full Moon Gallery\, Hechtstr.17\, Dresden\, Saxony\, 01097\, Germany
CATEGORIES:events_de
ATTACH;FMTTYPE=image/jpeg:https://jkpev.de/wp-content/uploads/2023/01/gif_2-copy-2-scaled.jpg
END:VEVENT
BEGIN:VEVENT
DTSTART;TZID=UTC:20230205T200000
DTEND;TZID=UTC:20230205T233000
DTSTAMP:20260425T151704
CREATED:20230104T095455Z
LAST-MODIFIED:20230104T095455Z
UID:20774-1675627200-1675639800@jkpev.de
SUMMARY:METAMORPHOSIS DES GEISTES - Vernissage
DESCRIPTION:„Kinder\, die mit einer Bombe spielen.“ So hat der schwedische Philosoph Nick Bostrom uns\, die heutige Menschheit\, beschrieben\, die Künstliche Intelligenz (KI) nicht nur entwickelt\, sondern sich ihr fast schon zügellos hingibt\, ohne sich über die Folgen bewusst zu sein. Das Bild ist keineswegs neu\, es zieht sich vom Golem der frühmittelalterlichen jüdischen Mystik über Mary Shelleys Frankenstein bis zum amoklaufenden Bordcomputer HAL 9000 in Stanley Kubricks Film „2001: Odyssee im Weltraum“ durch die Kulturgeschichte. Während die einen der Digitalisierung diese Schreckensmaske aufsetzen\, blüht die Kunst im virtuellen Raum regelrecht auf. Die Reflektion über die unendlichen Möglichkeiten\, die sich dank des Computers ergeben\, war das zentrale Thema der vom Jugend und Kulturprojekt e.V. initiierten Digital Art Residencies. \nÜber einen Zeitraum von drei Monaten nutzten lokale und internationale KünstlerInnen digitale Kollaborationssoftware um Arbeiten zum Thema METAMORPHOSIS DES GEISTES zu kreieren. Dabei lag der Fokus auf der kreativen Adaption digitaler Technologien. Die entstanden Werke zeigen Kunst als etwas\, das zwischen mehreren Individuen und digitalen Netzwerken durch komplexe Interaktionen entsteht: eine Verschmelzung. \nTeilnehmende KünstlerInnen: Mia-Ann Böhm (Deutschland)\, Augusto Gerardi Rousset (Venezuela)\, Jakyeong Jeong (Südkorea/Deutschland) Belal Kalash (Israel)\, Oleksandra Kulikovska (Ukraine)\, Anna Mukhanova (Ukraine)\, Laura Michelle Schubert (Deutschland)\, Michael Siegmund (Deutschland)
URL:https://jkpev.de/event/metamorphosis-des-geistes-vernissage/
LOCATION:Full Moon Gallery\, Hechtstr.17\, Dresden\, Saxony\, 01097\, Germany
CATEGORIES:events_de
ATTACH;FMTTYPE=image/jpeg:https://jkpev.de/wp-content/uploads/2023/01/fb-banner-vernissage_2.jpg
END:VEVENT
BEGIN:VEVENT
DTSTART;TZID=UTC:20230205T200000
DTEND;TZID=UTC:20230205T233000
DTSTAMP:20260425T151704
CREATED:20230104T095850Z
LAST-MODIFIED:20230112T110149Z
UID:20777-1675627200-1675639800@jkpev.de
SUMMARY:METAMORPHOSIS DES GEISTES - Vernissage
DESCRIPTION:“Children playing with a bomb.” This is how the Swedish philosopher Nick Bostrom described us\, today’s humanity\, not only developing artificial intelligence (AI) but indulging in it almost without restraint\, unaware of the consequences. The image is by no means new; it runs through cultural history from the Golem of early medieval Jewish mysticism to Mary Shelley’s Frankenstein to the HAL 9000 on-board computer running amok in Stanley Kubrick’s film “2001: A Space Odyssey”. While some put this mask of horror on digitalisation\, art in virtual space is really flourishing. Reflecting on the infinite possibilities that arise thanks to the computer was the central theme of the Digital Art Residencies initiated by the Jugend und Kulturprojekt e.V.. \nOver a period of three months\, local and international artists used digital collaboration software to create works on the theme METAMORPHOSIS OF THE MIND. The focus was on the creative adaptation of digital technologies. The resulting works show art as something that is created between several individuals and digital networks through complex interactions: a fusion. \nParticipating artists: Mia-Ann Böhm (Germany)\, Augusto Gerardi Rousset (Venezuela)\, Jakyeong Jeong (South Korea/Germany) Belal Kalash (Israel)\, Oleksandra Kulikovska (Ukraine)\, Anna Mukhanova (Ukraine)\, Laura Michelle Schubert (Germany)\, Michael Siegmund (Germany)
URL:https://jkpev.de/event/metamorphosis-des-geistes-vernissage-2/
LOCATION:Full Moon Gallery\, Hechtstr.17\, Dresden\, Saxony\, 01097\, Germany
CATEGORIES:events_en
ATTACH;FMTTYPE=image/jpeg:https://jkpev.de/wp-content/uploads/2023/01/fb-banner-vernissage_2.jpg
END:VEVENT
BEGIN:VEVENT
DTSTART;TZID=UTC:20230223T200000
DTEND;TZID=UTC:20230223T235900
DTSTAMP:20260425T151704
CREATED:20230127T120236Z
LAST-MODIFIED:20230127T120236Z
UID:21076-1677182400-1677196740@jkpev.de
SUMMARY:Culture Jam Session
DESCRIPTION:In der Überzeugung\, dass Musik eine wichtige Rolle bei der Bekämpfung von Stereotypen und Diskriminierung spielt\, feiert die CULTURE JAM SESSION in der KulturCentrale die kulturelle und musikalische Vielfalt. Die Jam Session findet jeden Donnerstag ab 18:30 Uhr statt und jeden letzten Donnerstag im Monat gibt es ab 20 Uhr ein Jam Session Konzert in der KulturCentrale.\nInternationale und lokale Musiker treten live auf unserer Bühne auf und freuen sich über jeden kreativen Beitrag\, sei es ein Maultrommel-Solo\, eine Coverversion ihres Lieblingssongs oder eine spontane musikalische Einlage. Also packt das Instrument eurer Wahl ein und feiert Live-Musik mit dem Team des Jugend- & Kulturprojekt e.V. und seinen Gästen aus aller Welt. Klavier\, Gitarren\, Cajon\, Verstärker und Mikrofone warten auf dich!\nDas Team hinter der Culture Jam Session sind die Mitglieder des Jugend- & Kulturprojekt e.V. in Zusammenarbeit mit Izabela Modrzewska.
URL:https://jkpev.de/event/culture-jam-session-3/
LOCATION:KulturCentrale\, Hechtstr.17\, Dresden\, 01097
CATEGORIES:events_de
ATTACH;FMTTYPE=image/jpeg:https://jkpev.de/wp-content/uploads/2023/01/fb-event_jam-session_2.jpg
END:VEVENT
BEGIN:VEVENT
DTSTART;TZID=UTC:20230223T200000
DTEND;TZID=UTC:20230223T235900
DTSTAMP:20260425T151704
CREATED:20230127T120328Z
LAST-MODIFIED:20230201T104805Z
UID:21079-1677182400-1677196740@jkpev.de
SUMMARY:Culture Jam Session
DESCRIPTION:Believing that music plays an important role in combating stereotypes and discrimination\, the CULTURE JAM SESSION at KulturCentrale celebrates cultural and musical diversity. The Jam Session takes place every Thursday from 6:30 p.m. and every last Thursday of the month there is a Jam Session concert at KulturCentrale from 8 p.m.\nInternational and local musicians perform live on our stage and welcome any creative contribution\, be it a Jew’s harp solo\, a cover version of your favourite song or a spontaneous musical interlude. So pack the instrument of your choice and celebrate live music with the team of the Jugend- & Kulturprojekt e.V. and its guests from all over the world. Piano\, guitars\, cajon\, amplifiers and microphones are waiting for you!\nThe team behind the Culture Jam Session are the members of the Jugend- & Kulturprojekt e.V. in cooperation with Izabela Modrzewska.
URL:https://jkpev.de/event/culture-jam-session-4/
LOCATION:KulturCentrale\, Hechtstr.17\, Dresden\, 01097
CATEGORIES:events_en
ATTACH;FMTTYPE=image/jpeg:https://jkpev.de/wp-content/uploads/2023/01/fb-event_jam-session_2-1.jpg
END:VEVENT
BEGIN:VEVENT
DTSTART;TZID=UTC:20230224T200000
DTEND;TZID=UTC:20230224T220000
DTSTAMP:20260425T151704
CREATED:20230113T110046Z
LAST-MODIFIED:20230113T110046Z
UID:20932-1677268800-1677276000@jkpev.de
SUMMARY:Digitalisierung des menschlichen Geistes / Philosophisches Gespräch
DESCRIPTION:Unter dem Titel “Digitalisierung des menschlichen Verstandes” diskutiert das Dresdner Kulturkollektiv pampelmuse\, d.h. die Philosophin Doreen Siegmund und der Theaterpädagoge Samuel Fink\, gemeinsam mit der Grafikdesignerin Nadja Barth\, dem DJ und Mitbegründer des Kulturvereins null7b Richard Gruhle und dem IT-Experten Nico Buntspecht über den Einfluss der digitalen Medien auf unser Denken und Handeln. Die philosophische Gesprächs- und Diskussionsrunde findet am 24. Februar um 20 Uhr in der KulturCentrale statt und wird später als Podcast veröffentlicht.
URL:https://jkpev.de/event/digitalisierung-des-menschlichen-geistes-philosophisches-gesprach/
LOCATION:KulturCentrale\, Hechtstr.17\, Dresden\, 01097
CATEGORIES:events_de
ATTACH;FMTTYPE=image/jpeg:https://jkpev.de/wp-content/uploads/2023/01/fb-podcast-2-scaled.jpg
END:VEVENT
BEGIN:VEVENT
DTSTART;TZID=UTC:20230224T200000
DTEND;TZID=UTC:20230224T220000
DTSTAMP:20260425T151704
CREATED:20230113T110248Z
LAST-MODIFIED:20230113T110418Z
UID:20938-1677268800-1677276000@jkpev.de
SUMMARY:Digitalisierung des menschlichen Geistes / Philosophisches Gespräch
DESCRIPTION:Under the title “Digitisation of the Human Mind”\, the Dresden cultural collective pampelmuse\, i.e. philosopher Doreen Siegmund and theatre pedagogue Samuel Fink\, will discuss the influence of digital media on our thoughts and actions together with graphic designer Nadja Barth\, DJ and co-founder of the cultural association null7b Richard Gruhle and IT expert Nico Buntspecht. The philosophical debate will take place on 24 February at 8 p.m. at the KulturCentrale and will later be published as a podcast.
URL:https://jkpev.de/event/digitalisierung-des-menschlichen-geistes-philosophisches-gesprach-2/
LOCATION:KulturCentrale\, Hechtstr.17\, Dresden\, 01097
CATEGORIES:events_en
ATTACH;FMTTYPE=image/jpeg:https://jkpev.de/wp-content/uploads/2023/01/fb-podcast-2-scaled.jpg
END:VEVENT
END:VCALENDAR